BEGIN:VCALENDAR
VERSION:2.0
PRODID:-//The Living Bridge Centre - ECPv6.15.20//NONSGML v1.0//EN
CALSCALE:GREGORIAN
METHOD:PUBLISH
X-ORIGINAL-URL:https://livingbridge.ca
X-WR-CALDESC:Events for The Living Bridge Centre
REFRESH-INTERVAL;VALUE=DURATION:PT1H
X-Robots-Tag:noindex
X-PUBLISHED-TTL:PT1H
BEGIN:VTIMEZONE
TZID:America/Toronto
BEGIN:DAYLIGHT
TZOFFSETFROM:-0500
TZOFFSETTO:-0400
TZNAME:EDT
DTSTART:20250309T070000
END:DAYLIGHT
BEGIN:STANDARD
TZOFFSETFROM:-0400
TZOFFSETTO:-0500
TZNAME:EST
DTSTART:20251102T060000
END:STANDARD
BEGIN:DAYLIGHT
TZOFFSETFROM:-0500
TZOFFSETTO:-0400
TZNAME:EDT
DTSTART:20260308T070000
END:DAYLIGHT
BEGIN:STANDARD
TZOFFSETFROM:-0400
TZOFFSETTO:-0500
TZNAME:EST
DTSTART:20261101T060000
END:STANDARD
BEGIN:DAYLIGHT
TZOFFSETFROM:-0500
TZOFFSETTO:-0400
TZNAME:EDT
DTSTART:20270314T070000
END:DAYLIGHT
BEGIN:STANDARD
TZOFFSETFROM:-0400
TZOFFSETTO:-0500
TZNAME:EST
DTSTART:20271107T060000
END:STANDARD
END:VTIMEZONE
BEGIN:VEVENT
DTSTART;TZID=America/Toronto:20260111T160000
DTEND;TZID=America/Toronto:20260111T170000
DTSTAMP:20260425T195837
CREATED:20251123T170026Z
LAST-MODIFIED:20251123T182545Z
UID:1492-1768147200-1768150800@livingbridge.ca
SUMMARY:Imagining a Threefold Society (C)
DESCRIPTION:::: Webinar Series :::\nExploring the Basic Idea of Social Threefolding\nwith T. Michael Cox and Christopher Hahn\nSundays – January 11 through February 8\nRegister by Friday 9 January 2026 \nIn a series of five 60-minute online sessions\, offered free of charge\, we will explore Rudolf Steiner’s social ideas – called social threefolding – which offer us hope at this time of social confusion. \nThis webinar series is designed for beginners\, although everyone is welcome to attend. \nA threefold society was first proposed by Rudolf Steiner during and after World War I. The basic idea is to separate our current society into three independent and autonomous members: economic\, state (government)\, and culture. \nFor a quick introduction to social threefolding\, visit this glossary page. \nEach one-hour session starts at 11am Hawaiian | 1pm Pacific | 4pm Eastern | 10pm Central European time: \n\nSun 11 Jan – The Idea of Social Threefolding\nSun 18 Jan – Reimagining Our Economic Life\nSun 25 Jan – Reimagining Our Rights Life\nSun 01 Feb – Reimagining Our Cultural Life\nSun 08 Feb – Imagining a Threefold Society\n\nEach session will consist of a combination of presentations\, facilitated discussions\, and practical applications – aimed at imagining what a future threefold society might be like. \nNote that sessions will be recorded for training purposes – and will not be shared or published. \nLooking forward to seeing you there!\n– T. Michael Cox\, author of Money for a Threefold Society\n– Christopher Hahn\, Biodynamic Farmer\n \n>\n  \nRegistration Form\nThe webinar series is free\, but space is limited – so register now! \nLoading… \nTrillium Image © Living Bridge Centre. All rights reserved.
URL:https://livingbridge.ca/event/imagining-c/
LOCATION:Online
CATEGORIES:Online
END:VEVENT
END:VCALENDAR