BEGIN:VCALENDAR
VERSION:2.0
PRODID:-//The Living Bridge Centre - ECPv6.15.20//NONSGML v1.0//EN
CALSCALE:GREGORIAN
METHOD:PUBLISH
X-ORIGINAL-URL:https://livingbridge.ca
X-WR-CALDESC:Events for The Living Bridge Centre
REFRESH-INTERVAL;VALUE=DURATION:PT1H
X-Robots-Tag:noindex
X-PUBLISHED-TTL:PT1H
BEGIN:VTIMEZONE
TZID:America/Toronto
BEGIN:DAYLIGHT
TZOFFSETFROM:-0500
TZOFFSETTO:-0400
TZNAME:EDT
DTSTART:20250309T070000
END:DAYLIGHT
BEGIN:STANDARD
TZOFFSETFROM:-0400
TZOFFSETTO:-0500
TZNAME:EST
DTSTART:20251102T060000
END:STANDARD
BEGIN:DAYLIGHT
TZOFFSETFROM:-0500
TZOFFSETTO:-0400
TZNAME:EDT
DTSTART:20260308T070000
END:DAYLIGHT
BEGIN:STANDARD
TZOFFSETFROM:-0400
TZOFFSETTO:-0500
TZNAME:EST
DTSTART:20261101T060000
END:STANDARD
BEGIN:DAYLIGHT
TZOFFSETFROM:-0500
TZOFFSETTO:-0400
TZNAME:EDT
DTSTART:20270314T070000
END:DAYLIGHT
BEGIN:STANDARD
TZOFFSETFROM:-0400
TZOFFSETTO:-0500
TZNAME:EST
DTSTART:20271107T060000
END:STANDARD
END:VTIMEZONE
BEGIN:VEVENT
DTSTART;TZID=America/Toronto:20260111T160000
DTEND;TZID=America/Toronto:20260111T170000
DTSTAMP:20260425T222127
CREATED:20251123T170026Z
LAST-MODIFIED:20251123T182545Z
UID:1492-1768147200-1768150800@livingbridge.ca
SUMMARY:Imagining a Threefold Society (C)
DESCRIPTION:::: Webinar Series :::\nExploring the Basic Idea of Social Threefolding\nwith T. Michael Cox and Christopher Hahn\nSundays – January 11 through February 8\nRegister by Friday 9 January 2026 \nIn a series of five 60-minute online sessions\, offered free of charge\, we will explore Rudolf Steiner’s social ideas – called social threefolding – which offer us hope at this time of social confusion. \nThis webinar series is designed for beginners\, although everyone is welcome to attend. \nA threefold society was first proposed by Rudolf Steiner during and after World War I. The basic idea is to separate our current society into three independent and autonomous members: economic\, state (government)\, and culture. \nFor a quick introduction to social threefolding\, visit this glossary page. \nEach one-hour session starts at 11am Hawaiian | 1pm Pacific | 4pm Eastern | 10pm Central European time: \n\nSun 11 Jan – The Idea of Social Threefolding\nSun 18 Jan – Reimagining Our Economic Life\nSun 25 Jan – Reimagining Our Rights Life\nSun 01 Feb – Reimagining Our Cultural Life\nSun 08 Feb – Imagining a Threefold Society\n\nEach session will consist of a combination of presentations\, facilitated discussions\, and practical applications – aimed at imagining what a future threefold society might be like. \nNote that sessions will be recorded for training purposes – and will not be shared or published. \nLooking forward to seeing you there!\n– T. Michael Cox\, author of Money for a Threefold Society\n– Christopher Hahn\, Biodynamic Farmer\n \n>\n  \nRegistration Form\nThe webinar series is free\, but space is limited – so register now! \nLoading… \nTrillium Image © Living Bridge Centre. All rights reserved.
URL:https://livingbridge.ca/event/imagining-c/
LOCATION:Online
CATEGORIES:Online
END:VEVENT
BEGIN:VEVENT
DTSTART;TZID=America/Toronto:20260112T140000
DTEND;TZID=America/Toronto:20260112T153000
DTSTAMP:20260425T222127
CREATED:20251201T213616Z
LAST-MODIFIED:20251211T224049Z
UID:1498-1768226400-1768231800@livingbridge.ca
SUMMARY:Money for a Threefold Society - Study Group
DESCRIPTION:::: Weekly Online Group Study :::\nStudy of Money for a Threefold Society by T. Michael Cox\nfacilitated by T. Michael Cox\nMondays – starting on January 12\nRegister by Friday 9 January 2026 \nMoney for a Threefold Society explores a clear and practical\, step-by-step pathway to bring a threefold society into being in the here and now – a pathway that is not based on utopian or moralistic assumptions\, but one that proceeds by building local grassroots communities that arise from the immediate advantages that social threefolding has to offer. \nStarting in January\, we will meet on a weekly basis to read and discuss this book\, with a focus on the practical implementation of healthy social threefolding in the here and now. \nSocial threefolding represents a novel conception for how a future society might be organized\, in a way that is more healthy than our current “unitary” society. For more about social threefolding: \n\nWikipedia: Social Threefolding\nVideo: What is Social Threefolding and Why Do We Need It Now?\nVideo: The Dawn of Social Threefolding\n\nParticipants should have at least some prior knowledge of social threefolding – however\, absolute beginners who are willing to learn are welcome! \nEach 90-minute online session will consist of reading\, discussion\, and exploring practical examples\, and will end with a brief meeting review. Although reading outside of the weekly zoom times is not required\, participants who wish to volunteer will be invited to present brief summaries of each previous session. \nPrecise details regarding duration and learning process will be decided upon collaboratively by the group participants. \nThe study group is free of charge. However\, places are limited in order to ensure that everyone can participate in discussions. So register early to grab your spot! \nAlthough there is no fee\, participants will be expected to support us by purchasing a copy of the book Money for a Threefold Society. It is available in paperback or ebook formats here: Truth Phenomena Publishing \nEach 90-minute Monday session starts promptly at 11:00 am Pacific | 2:00 pm Eastern | 8:00 pm Central European time. During the winter months\, it begins at 9:00 am Hawaii time\, then switches to 8:00 am in Hawaii when Daylight Savings Time begins in North America. \nThe sessions themselves will focus on study\, so if you wish to chat and socialize a bit at the beginning\, be sure to join the zoom session up to 15 minutes prior to the official start time. \nNote that sessions will be recorded\, but recordings will only be made available to current participants and will not be published. \nLooking forward to learning with you!\n– T. Michael Cox\, author of Money for a Threefold Society\n \n<< Click here to Email Us >> \n  \nStudy Group Registration Form\nSpace is limited – so register now! \n﻿﻿﻿﻿﻿﻿﻿﻿﻿﻿Loading… \nMoney for a Threefold Society Book Image © Truth Phenomena Publishing.
URL:https://livingbridge.ca/event/mts-a/
LOCATION:Online
CATEGORIES:Online
END:VEVENT
BEGIN:VEVENT
DTSTART;TZID=America/Toronto:20260321T090000
DTEND;TZID=America/Toronto:20260321T153000
DTSTAMP:20260425T222127
CREATED:20260129T181544Z
LAST-MODIFIED:20260208T162514Z
UID:1526-1774083600-1774107000@livingbridge.ca
SUMMARY:Social Threefolding Here and Now – Workshop in Ottawa
DESCRIPTION:::: Live Seminar :::\nWhat is Social Threefolding – And How Can We Bring It About in the Here and Now?\nwith T. Michael Cox\n \nSaturday 21 March 2026\nfrom 9:00 am to 3:30 pm\nPolaris Waldorf School\, 2nd floor\, 1805 Gaspe Avenue\, Ottawa\, K1K 0A4 \n4 sessions\, open to everyone. Each session will be a combination of presentation and discussion. \nCost: $50; pay at the door. (requests for discount will be immediately granted – contact us) \nRudolf Steiner spent many years of his life describing and trying to bring about a restructuring of society called social threefolding. Out of the social threefolding impulse\, other initiatives – such as Waldorf education – arose. One might imagine social threefolding as the healthy social environment in which a free spiritual-cultural life\, a fair rights life\, and a prosperous economic life based on mutual service allow other positive initiatives to unfold and succeed. Without this healthy social environment\, we necessarily face insurmountable obstacles. So social threefolding must be a top priority for all those who support anthroposophical endeavours – and for everyone who cares about future generations. \n—\nT. Michael Cox is one of Canada’s leading authorities on social threefolding and the author of Money for a Threefold Society. He recently completed a new translation of Rudolf Steiner’s Core Points of the Social Question (CW 23\, formerly Towards Social Renewal) – and is currently working on a new translation of Steiner’s National Economics Course and Seminars (CW 340/341\, formerly Rethinking Economics)\, expected to be published this summer. Now retired\, Michael was a high school teacher in both public and Waldorf schools for many years and has lived and worked in Germany\, England\, and Japan. \nHis book will be available for sale at the event.
URL:https://livingbridge.ca/event/ottawa-a/
LOCATION:Polaris Waldorf School\, 1805 Gaspe Avenue\, Ottawa\, Ontario\, K1K 0A4\, Canada
END:VEVENT
END:VCALENDAR